BEGIN:VCALENDAR
VERSION:2.0
PRODID:-//FACE@RUB - ECPv6.15.20//NONSGML v1.0//EN
CALSCALE:GREGORIAN
METHOD:PUBLISH
X-WR-CALNAME:FACE@RUB
X-ORIGINAL-URL:https://face.ruhr-uni-bochum.de
X-WR-CALDESC:Veranstaltungen für FACE@RUB
REFRESH-INTERVAL;VALUE=DURATION:PT1H
X-Robots-Tag:noindex
X-PUBLISHED-TTL:PT1H
BEGIN:VTIMEZONE
TZID:Europe/Berlin
BEGIN:DAYLIGHT
TZOFFSETFROM:+0100
TZOFFSETTO:+0200
TZNAME:CEST
DTSTART:20230326T010000
END:DAYLIGHT
BEGIN:STANDARD
TZOFFSETFROM:+0200
TZOFFSETTO:+0100
TZNAME:CET
DTSTART:20231029T010000
END:STANDARD
BEGIN:DAYLIGHT
TZOFFSETFROM:+0100
TZOFFSETTO:+0200
TZNAME:CEST
DTSTART:20240331T010000
END:DAYLIGHT
BEGIN:STANDARD
TZOFFSETFROM:+0200
TZOFFSETTO:+0100
TZNAME:CET
DTSTART:20241027T010000
END:STANDARD
BEGIN:DAYLIGHT
TZOFFSETFROM:+0100
TZOFFSETTO:+0200
TZNAME:CEST
DTSTART:20250330T010000
END:DAYLIGHT
BEGIN:STANDARD
TZOFFSETFROM:+0200
TZOFFSETTO:+0100
TZNAME:CET
DTSTART:20251026T010000
END:STANDARD
END:VTIMEZONE
BEGIN:VEVENT
DTSTART;TZID=Europe/Berlin:20240410T170000
DTEND;TZID=Europe/Berlin:20240410T200000
DTSTAMP:20260419T225622
CREATED:20240326T124930Z
LAST-MODIFIED:20240326T124930Z
UID:1188-1712768400-1712779200@face.ruhr-uni-bochum.de
SUMMARY:FACE Circle for (potential future) founders on Wed\, 10.04.'24
DESCRIPTION:A strong and empowering network is so important and beneficial for all your endeavors. From the beginning of FACE we’ve been delighted with all the innovative\, impressive\, inspiring people who’ve participated in our programs and who’ve became part of our flourishing network. We highly recommend finding peers to exchange experiences with and help each other grow and succeed. \nWe are happy to announce that from now on we open our FACE Circle to all (potential future) founders (women\, inter* non-binary\, agender) within Bochum and the UA Ruhr. The Circle is a casual get-together inviting peers to network\, learn from each other and possibly meet future co-founders.\nOn Wed\, 10.04.2024\, we invite you to join us for a stimulating keynote by Jules Banning on „Compatibility – living\, founding and working – my personal experience“\, lots of exchange and some vegan/vegetarian finger food. \nPlease register (for free) via Eventbrite until Mon\, 08.04.2024\, and join us on April 10th between 5 and 8 pm at Universitätsstraße 105\, Bochum. \n➡️ https://www.eventbrite.de/e/face-circle-tickets-858122797387 \n#FACEyourFuture #Startup0234 #ESCNRW #WennDannHier #WomenInEntrepreneurship #Sciencepreneurs #FemaleFounders #FemaleLeaders #BandenBilden
URL:https://face.ruhr-uni-bochum.de/veranstaltung/face-circle-for-potential-future-founders-on-wed-10-04-24/
ATTACH;FMTTYPE=image/png:https://face.ruhr-uni-bochum.de/wp-content/uploads/2024/03/Copy-of-FACE-Circle-0424-Facebook-Cover.png
END:VEVENT
END:VCALENDAR