BEGIN:VCALENDAR
VERSION:2.0
PRODID:-//FACE@RUB - ECPv6.15.20//NONSGML v1.0//EN
CALSCALE:GREGORIAN
METHOD:PUBLISH
X-WR-CALNAME:FACE@RUB
X-ORIGINAL-URL:https://face.ruhr-uni-bochum.de
X-WR-CALDESC:Veranstaltungen für FACE@RUB
REFRESH-INTERVAL;VALUE=DURATION:PT1H
X-Robots-Tag:noindex
X-PUBLISHED-TTL:PT1H
BEGIN:VTIMEZONE
TZID:Europe/Berlin
BEGIN:DAYLIGHT
TZOFFSETFROM:+0100
TZOFFSETTO:+0200
TZNAME:CEST
DTSTART:20230326T010000
END:DAYLIGHT
BEGIN:STANDARD
TZOFFSETFROM:+0200
TZOFFSETTO:+0100
TZNAME:CET
DTSTART:20231029T010000
END:STANDARD
BEGIN:DAYLIGHT
TZOFFSETFROM:+0100
TZOFFSETTO:+0200
TZNAME:CEST
DTSTART:20240331T010000
END:DAYLIGHT
BEGIN:STANDARD
TZOFFSETFROM:+0200
TZOFFSETTO:+0100
TZNAME:CET
DTSTART:20241027T010000
END:STANDARD
BEGIN:DAYLIGHT
TZOFFSETFROM:+0100
TZOFFSETTO:+0200
TZNAME:CEST
DTSTART:20250330T010000
END:DAYLIGHT
BEGIN:STANDARD
TZOFFSETFROM:+0200
TZOFFSETTO:+0100
TZNAME:CET
DTSTART:20251026T010000
END:STANDARD
END:VTIMEZONE
BEGIN:VEVENT
DTSTART;VALUE=DATE:20240412
DTEND;VALUE=DATE:20240921
DTSTAMP:20260419T225622
CREATED:20240126T112006Z
LAST-MODIFIED:20240419T133912Z
UID:1070-1712880000-1726876799@face.ruhr-uni-bochum.de
SUMMARY:Interdisziplinäre Summer School im Sommersemester 2024
DESCRIPTION:Gemeinsam. Erfolgreich. Gründen. Female Founders an der RUB\nIn zwei Wochen von der Inspiration zur eigenen Gründungsidee.\nSummer School vom 06.–20.09.2024 sowie am 12.04.\, 14.06. und 28.06.2024\nBeschreibung\nIn dieser Summer School lernt ihr\, was ihr über Gründung\, den Ideenfindungsprozess und das Pitchen wissen müsst\, welche besonderen Herausforderungen das Gründen für Frauen mit sich bringen kann und wie ihr diese meistern könnt. In kreativen Workshops entwickeln wir zusammen mit euch eine Gründungsidee\, die ihr am Ende der Summer School vor einer Jury vorstellt. Dabei stellen wir sicher\, dass ihr einen Einblick in das Startup-Ökosystem des Ruhrgebiets bekommt und gleichzeitig lernt\, euch selbstsicher in der Welt der Gründer*innen zu bewegen. Unsere Dozent*innen sind selbst erfahrene Gründer*innen und kennen die Herausforderungen der Szene aus eigener Erfahrung. Also macht euch bereit für eine intensive\, aber auch spannende und inspirierende Zeit\, in der ihr als Team zusammenwachsen werdet! \nZiel der Summer School von FACE@RUB ist es\, euch durch inter- und transdisziplinäre Formate für das Thema Gründung zu begeistern. Hierfür wollen wir euch sowohl ansprechen\, wenn ihr euch bisher noch nicht mit dem Thema Gründung auseinandergesetzt habt\, als auch wenn ihr bereits mit einer ersten Idee für eure berufliche Zukunft oder eine mögliche Gründung in die Summer School geht. Neben fachlichem Input werdet ihr in direkten Austausch mit Gründer*innen gebracht\, um so mehr über die Möglichkeiten einer eigenen Gründung oder Unternehmensführung zu erfahren. Zudem lernt ihr durch Workshops und Expert*innengespräche\, selbstständig mit unternehmerischen Methoden und Ansätzen zu arbeiten und diese für euer Studium und eure berufliche Zukunft zu nutzen. Am Ende der Summer School werdet ihr eine erste konkrete Gründungsidee ausgearbeitet haben\, die vor einer Jury gepitcht wird und als Anreiz für eine mögliche eigene Gründung dienen kann. \nDie Teilnehmenden werden inhaltlich an die konkreten Voraussetzungen einer Unternehmensgründung herangeführt und in Workshops unter anderem in den folgenden Bereichen aus-/weitergebildet: Geschäftsmodellentwicklung\, Vertriebswege\, ggf. Finanzierung\, Rollen innerhalb von Gruppen/Teams und Design Thinking. Mittlerweile bewährte Highlights der Summer School sind der Workshop zu Selbstwirksamkeit und das Pitchtraining\, um das eigene Auftreten als Gründungsperson zu stärken und die Potentiale der Gründungsideen zu reflektieren. Diese (hypothetischen) Gründungsideen der Teams werden am Ende der Summer School vor einer Fachjury gepitcht. \nDas Team\, welches die Jury mit ihrem Pitch und ihrer Gründungsidee am meisten überzeugt\, bekommt eine Gründungsförderung (Sach- und Reisemittel) in Höhe von 2.000€ durch „Proof It!“\, das Förderprogramm für studentische Ideen\, angeboten. \n  \nTeil 1: Challenges: Was bedeutet Gründung und was bringt mir das?  \nTermine: 12.04.2024\, 14:15-15:45 Uhr und 14.+28.06.2024\, je 12:15-15:45 Uhr \nOrt: Universitätsstraße 105\, EG/014 und EG/015 und Ortsbesuche \n  \nTeil 2: Success: Wie kann ich meine Idee umsetzen und vermitteln? \nTermine: 06.09.-20.09.2024\, jeweils 10:00-17:00 Uhr überwiegend. Es wird optionale Abendveranstaltungen geben und ein Tag ausfallen\, sodass wir 10 Arbeitstage haben werden. \nOrt: Universitätsstraße 105\, EG/014 und EG/015 und Ortsbesuche (ggfs. online) \n  \nAnmeldung und Informationen zu Leistungsnachweisen\nMasterstudierende aller Fakultäten und Sowi BA: https://bit.ly/FACEsummer2023 \nOptionalbereich BA: https://bit.ly/FACEsummerOptio \nInteressent*innen von anderen Hochschulen\, Alumnae oder mit Problemen bei der Anmeldung melden sich bitte via E-Mail. \nAnmeldephase: 01./11.03. – 11.04.2024 I Max. 40 Teilnehmerinnen \nKontakt: Nadine.Egelhof@rub.de \nDas Angebot richtet sich an Student*innen aller Fakultäten und Bochumer Hochschulen (Frauen\, Inter* und Nicht-Binäre). \n\n\n\nLeistungsnachweise \nBA:\n5 CP: Aktive Mitarbeit und Pitch-Präsentation zu einer innerhalb der Summer School selbst erarbeiteten Gründungsidee (benotet) (100h Präsenzzeit\, 50h Eigenarbeitszeit) \nMA:\n3 CP: Aktive Mitarbeit und Pitch-Präsentation zu einer innerhalb der Summer School selbst erarbeiteten Gründungsidee (unbenotet) (100h Präsenzzeit\, 50h Eigenarbeitszeit)\n6 CP: Aktive Mitarbeit und Pitch-Präsentation zu einer innerhalb der Summer School selbst erarbeiteten Gründungsidee (benotet\, 40% der Gesamtnote) und fachspezifische schriftliche Ausarbeitung auf 6-8 Seiten (benotet\, 60% der Gesamtnote) (100h Präsenzzeit\, 80h Eigenarbeitszeit) \nAlle Teilnehmer*innen erhalten unabhängig von CP ein Teilnahmezertifikat. \n\n\n\nDas vorläufige Programm 2024:
URL:https://face.ruhr-uni-bochum.de/veranstaltung/interdisziplinaere-summer-school-im-sommersemester-2024/
ATTACH;FMTTYPE=image/png:https://face.ruhr-uni-bochum.de/wp-content/uploads/2024/01/Flyer-FACE-Summer-School-2024.png
END:VEVENT
BEGIN:VEVENT
DTSTART;VALUE=DATE:20240419
DTEND;VALUE=DATE:20240526
DTSTAMP:20260419T225622
CREATED:20240126T112747Z
LAST-MODIFIED:20240417T142550Z
UID:1074-1713484800-1716681599@face.ruhr-uni-bochum.de
SUMMARY:Grundlagen zu App-Entwicklung im Blockseminar April & Mai 2024
DESCRIPTION:Gemeinsam. Neues. Entdecken. Das Female Founders Ideenlabor\n– Apps Entwickeln\nBlockseminar: 19.-20.04.2024 und 04.-05.05. + 25.05.2024\nBeschreibung \nNach wie vor ist der Anteil von Frauen im Gründungsbereich sehr gering. Das wollen wir mit unserem Projekt FACE@RUB (Female Academic Entrepreneurs) ändern\, indem wir gründungsinteressierte Student*innen gezielt unterstützen. Insbesondere digitale Geschäftsmodelle sind von steigender Bedeutung bei der Umsetzung eigener Ideen. Dabei spielen Apps oft eine zentrale Rolle. Da insbesondere die Programmierung von nativen Apps (Anwendungen auf mobilen Endgeräten\, die speziell für das Betriebssystem des jeweiligen Endgerätes konzipiert und entwickelt wurden) oft eine entscheidende Hürde darstellt\, möchten wir im Rahmen des Ideenlabors Student*innen eine Einführung in die Programmierung von nativen Apps geben und sie befähigen eigenen Code zu schreiben. Ziel des Ideenlabors ist die Entwicklung bzw. Programmierung von grundlegenden App-Funktionen und die Entwicklung eines eigenen (rudimentären) Prototypen. \n  \nTeil 1: Einführung in die App Programmierung (Seminar) \nTermine: 19.04.2024 14:00-16:00 Uhr\, 20.04.2024 10:00-16:00 Uhr \nOrt: Makerspace (im O-Werk Bochum) \nIm ersten Teil des Moduls sollen neben den theoretischen Grundlagen im der App-Entwicklung und Programmierung erste Einblicke in die native App-Programmierung in Programmiersprachen wie React native oder Flutter vermittelt werden. Darüber hinaus sollen die Grundzüge von UX und UI Design vermittelt werden. \n  \nTeil 2: Ideenlabor: Prototypenentwicklung von nativen Apps (Seminar) \nTermine: 04.05.2024 10:00-16:00 Uhr\, 05.05.2024 10:00 – 14:00 Uhr\, 25.05.2024 10:00-16:00 Uhr\, 06.05.- 24.05.2024 Selbstlernphase \nOrt: Makerspace (im O-Werk Bochum) \nIm zweiten Teil des Moduls werden wir gemeinsam erste eigene App-Prototypen in Grundzügen entwickeln und lernen\, die ersten Funktionen zu programmieren. \n  \nAnmeldung und Details zu Leistungsnachweisen\n \nOptionalbereich BA: https://bit.ly/IdeenlaborFACE2023 \nInteressent*innen von anderen Hochschulen und aus Masterstudiengängen melden sich bitte via E-Mail. \nAnmeldephase: 11.03. – 18.04.2024 I Max. 20 Teilnehmerinnen \nKontakt: janwillem.huda@rub.de \nDas Angebot richtet sich an Student*innen aller Fakultäten und Bochumer Hochschulen (Frauen\, Inter* und Nicht-Binäre). \nLeistungsnachweis \n\n\n\n5CP im Optionalbereich:\nAktive Seminarteilnahme (30%) und Programmierung eines eigenen Prototyps im Anschluss an das Seminar inkl. Dokumentation (70%).\n(22h Präsenzzeit; 128h Eigenarbeitszeit) \nAlle erfolgreichen Teilnehmer*innen können ein Teilnahmezertifikat erhalten unabhängig von CP. \n  \nVoraussetzungen! \n\nFür die Teilnahme an diesem Kurs und die Arbeit mit Flutter ist es wichtig\, dass Ihr Laptop bestimmte Mindestanforderungen erfüllt. \nProzessor (CPU) \nFür Windows-Nutzerin ist ein Prozessor (i5 oder besser) empfohlen\, um eine reibungslose Entwicklungserfahrung zu gewährleisten. \nMac-Nutzerin sollten mindestens über einen Intel Core i5\, Apple M1\, einen Apple M2 Prozessor oder ähnliches verfügen. \nArbeitsspeicher (RAM) \nIhr Laptop sollte mindestens über 4 GB Arbeitsspeicher (RAM) verfügen. Um die beste Entwicklungserfahrung zu gewährleisten\, werden jedoch 8 GB RAM empfohlen. \nFestplattenspeicher \nBezüglich des Speicherplatzes benötigen Sie mindestens 2 GB freien Speicherplatz\, wobei 4 GB empfohlen werden
URL:https://face.ruhr-uni-bochum.de/veranstaltung/grundlagen-zu-app-entwicklung-im-blockseminar-april-mai-2024/
ATTACH;FMTTYPE=image/png:https://face.ruhr-uni-bochum.de/wp-content/uploads/2024/01/Flyer-FACE-Ideenlabor-2024.png
END:VEVENT
END:VCALENDAR