BEGIN:VCALENDAR
VERSION:2.0
PRODID:-//FACE@RUB - ECPv6.15.20//NONSGML v1.0//EN
CALSCALE:GREGORIAN
METHOD:PUBLISH
X-WR-CALNAME:FACE@RUB
X-ORIGINAL-URL:https://face.ruhr-uni-bochum.de
X-WR-CALDESC:Veranstaltungen für FACE@RUB
REFRESH-INTERVAL;VALUE=DURATION:PT1H
X-Robots-Tag:noindex
X-PUBLISHED-TTL:PT1H
BEGIN:VTIMEZONE
TZID:Europe/Berlin
BEGIN:DAYLIGHT
TZOFFSETFROM:+0100
TZOFFSETTO:+0200
TZNAME:CEST
DTSTART:20230326T010000
END:DAYLIGHT
BEGIN:STANDARD
TZOFFSETFROM:+0200
TZOFFSETTO:+0100
TZNAME:CET
DTSTART:20231029T010000
END:STANDARD
BEGIN:DAYLIGHT
TZOFFSETFROM:+0100
TZOFFSETTO:+0200
TZNAME:CEST
DTSTART:20240331T010000
END:DAYLIGHT
BEGIN:STANDARD
TZOFFSETFROM:+0200
TZOFFSETTO:+0100
TZNAME:CET
DTSTART:20241027T010000
END:STANDARD
BEGIN:DAYLIGHT
TZOFFSETFROM:+0100
TZOFFSETTO:+0200
TZNAME:CEST
DTSTART:20250330T010000
END:DAYLIGHT
BEGIN:STANDARD
TZOFFSETFROM:+0200
TZOFFSETTO:+0100
TZNAME:CET
DTSTART:20251026T010000
END:STANDARD
END:VTIMEZONE
BEGIN:VEVENT
DTSTART;TZID=Europe/Berlin:20241029T170000
DTEND;TZID=Europe/Berlin:20241029T210000
DTSTAMP:20260420T055821
CREATED:20241008T121417Z
LAST-MODIFIED:20241010T122029Z
UID:1570-1730221200-1730235600@face.ruhr-uni-bochum.de
SUMMARY:Women in Health - Von der Uni in die Selbstständigkeit
DESCRIPTION:Gründerin im Gesundheitsbereich werden?  \nDu hast eine faszinierende Idee und weißt nicht ganz\, wie man daraus ein lukratives Geschäft entwickelt? Du fragst dich\, wie sich andere aus dem Gesundheitsbereich selbstständig gemacht haben und damit erfolgreich sind? Dann darfst du unser „Women in Health Event“ am 29.10.2024 nicht verpassen! Aber auch\, wenn du keinen Bezug zum Health-Sektor hast\, bekommst du hier die Gelegenheit\, von inspirierenden Gründerinnen zu lernen und dich zu vernetzen. \nEs erwarten dich packende Gründungsgeschichten\, inspirierende Role Models und tiefe Einblicke in die Start-up-Welt. \nEgal\, ob du schon konkrete Ideen hast oder einfach neugierig bist – diese Frauen zeigen dir\, wie der Schritt von der Forschung zur Gründung gelingen kann: \nAnna Schulze-Ardey\, Founder von OH CIRCLE\nOh Circle entwickeln einen wiederverwendbaren Tampon und begegnen damit dem aktuellen gesellschaftlichen Interesse an Reduktion von Einwegprodukten und Umweltschutz sowie der Entstigmatisierung von Menstruation. Sie schaffen ein nachhaltiges Menstruationsprodukt\, das eine attraktive Alternative zu herkömmlichen Tampons darstellt. \nDr. Kristina Gugg\, Gründerin und CEO von DentoGenius Health\nDentoGenius Health revolutioniert die präventive Kinderzahnheilkunde mit App-basierten Kursen und Erlebnisboxen\, die spielerisch gesunde Mundhygiene fördern. Durch die Kombination von Gamification\, Wissenschaft und Psychologie verbessert das Unternehmen das Familienleben und stärkt die Gesundheit in der Gesellschaft durch nachhaltige Prävention und Aufklärung. \nDr.-Ing. Friederike Kogelheide Founder von Glim Skin \nGlim Skin entwickelt nachhaltige\, hochwirksame Hautpflegeprodukte\, die auf wissenschaftlichen Erkenntnissen basieren. Das Unternehmen legt großen Wert auf nachhaltige Produktion und verwendet hochwertige\, umweltfreundliche Inhaltsstoffe\, um die Hautgesundheit langfristig zu fördern. Dazu verwenden sie Kaltplasma\, welches bisher erfolgreich in der Wundheilung eingesetzt wird. \nDr. Mandana Banedj-Schafii\, Gründerin und CEO von medmehr\nMedmehr bietet umfassende technische Dienstleistungen für Gesundheitseinrichtungen an. Das Unternehmen unterstützt Kliniken und andere Einrichtungen bei der Beschaffung\, Wartung und Entsorgung von Medizin- und Hygienetechnik\, einschließlich 24/7-Support und nachhaltigen Lösungen\, die den gesamten Lebenszyklus der Geräte abdecken. \nKatrin Reuter\, Gründerin und CEO von trackle GmbH\nTrackle bietet ein hormonfreies Fruchtbarkeitstracking-System\, das die Körperkerntemperatur über Nacht misst\, um den Zyklus zu überwachen. Die Daten werden morgens mit einer App synchronisiert\, die anzeigt\, ob man sich in einer fruchtbaren Phase befindet\, ideal für eine sichere Verhütung oder bei Kinderwunsch\, basierend auf der symptothermalen Methode. \nUnd so läuft es ab: \n\nFünf Speakerinnen – von Einsteigerin bis Expertin – erzählen von ihren Anfängen\, Herausforderungen\, wie sie ihre Ideen umgesetzt haben und geben euch wertvolle Tipps.\nQ&A-Session – Stellt eure individuellen Fragen und erhaltet exklusive Einblicke.\n\nUnd on top? Ein leckeres Catering\, Getränke und eine coole\, empowernde Atmosphäre gibt’s obendrauf – und zwar kostenlos! \nWann? 29.10.2024\nUhrzeit? 17:00-21:00 Uhr\nWo? RUB-Makerspace (O-Werk): Suttner-Nobel-Allee 1-13\, 44803 Bochum\nWer? Alle sind herzlich eingeladen!\nTeilnahme? Kostenlos!\nSicher dir jetzt deinen Platz und verpasse nicht diese einmalige Gelegenheit! \nMeldet euch jetzt hier an: → Eventbrite. \nPS: Wir haben nur 60 Tickets zur Verfügung\, sei am besten schnell mit der Anmeldung! Wir freuen uns auf dich!
URL:https://face.ruhr-uni-bochum.de/veranstaltung/women-in-health-von-der-uni-in-die-selbststaendigkeit/
ATTACH;FMTTYPE=image/png:https://face.ruhr-uni-bochum.de/wp-content/uploads/2024/10/Women-in-Health_Grafik_Querformat.png
END:VEVENT
END:VCALENDAR